BEGIN:VCALENDAR
VERSION:2.0
PRODID:-//Tukios.com/
BEGIN:VEVENT
UID:cc6b8269-c830-4c04-a134-3276d760ee2b@www.vanderwallfh.com
DTSTAMP:20260422T220718Z
DTSTART:20260423T190000Z
DTEND:20260423T200000Z
SUMMARY:Funeral Service
DESCRIPTION:
URL:https://www.vanderwallfh.com/obituaries/samuel-kelley
LOCATION:Vanderwall Funeral Home 164 Maple Street  Dayton TN 37321
GEO:35.483648;-85.0190458
END:VEVENT
END:VCALENDAR