BEGIN:VCALENDAR
VERSION:2.0
PRODID:-//Tukios.com/
BEGIN:VEVENT
UID:9cdf65f5-721a-4a9e-8764-fc0fed91ef34@www.vanderwallfh.com
DTSTAMP:20260422T220821Z
DTSTART:20260423T160000Z
DTEND:20260423T190000Z
SUMMARY:Visitation
DESCRIPTION:
URL:https://www.vanderwallfh.com/obituaries/samuel-kelley
LOCATION:Vanderwall Funeral Home 164 Maple Street  Dayton TN 37321
GEO:35.483648;-85.0190458
END:VEVENT
END:VCALENDAR